BEGIN:VCALENDAR
VERSION:2.0
PRODID:-//Sabre//Sabre VObject 4.5.8//EN
CALSCALE:GREGORIAN
BEGIN:VTIMEZONE
TZID:Europe/Zurich
X-LIC-LOCATION:Europe/Zurich
TZURL:http://tzurl.org/zoneinfo/Europe/Zurich
BEGIN:DAYLIGHT
TZOFFSETFROM:+0100
TZOFFSETTO:+0200
TZNAME:CEST
DTSTART:19810329T020000
RRULE:FREQ=YEARLY;BYMONTH=3;BYDAY=-1SU
END:DAYLIGHT
BEGIN:STANDARD
TZOFFSETFROM:+0200
TZOFFSETTO:+0100
TZNAME:CET
DTSTART:19961027T030000
RRULE:FREQ=YEARLY;BYMONTH=10;BYDAY=-1SU
END:STANDARD
END:VTIMEZONE
BEGIN:VEVENT
UID:news546@nursing.unibas.ch
DTSTAMP;TZID=Europe/Zurich:20260415T104055
DTSTART;TZID=Europe/Zurich:20260916T170000
SUMMARY:3. IMPACT Webinar: «On the Optimization of Multilevel Adaptive Imp
 lementation Strategies (MAISYs)»
DESCRIPTION:Dr. Daniel Almirall\, University of Michigan\, USA\\r\\nThe web
 inars are organized by the Swiss Implementation Science Network (IMPACT) 
 [https://impact-dph.unibas.ch/].\\r\\nFor more detailed information on the
  individual webinars\, please see the flyer\, which you can download here
  [https://impact-dph.unibas.ch/webinars/].\\r\\nPlease click here [https:
 //nursing.wufoo.com/forms/z13l8eil13mpjb7/] to register for individual we
 binars or the entire 2026 Webinar Series.
X-ALT-DESC:<p><strong>Dr. Daniel Almirall</strong>\, University of Michigan
 \, USA</p>\n<p>The webinars are organized by the&nbsp\;<a href="https://im
 pact-dph.unibas.ch/" target="_blank">Swiss Implementation Science Network 
 (IMPACT)</a>.</p>\n<p>For more detailed information on the individual webi
 nars\, please see the flyer\, which you can download&nbsp\;<a href="https:
 //impact-dph.unibas.ch/webinars/" target="_blank">here</a>.</p>\n<p>Please
  click&nbsp\;<a href="https://nursing.wufoo.com/forms/z13l8eil13mpjb7/" ta
 rget="_blank">here</a>&nbsp\;to register for individual webinars or the en
 tire 2026 Webinar Series.</p>
DTEND;TZID=Europe/Zurich:20260916T183000
END:VEVENT
END:VCALENDAR
