BEGIN:VCALENDAR
VERSION:2.0
PRODID:-//Sabre//Sabre VObject 4.5.8//EN
CALSCALE:GREGORIAN
BEGIN:VTIMEZONE
TZID:Europe/Zurich
X-LIC-LOCATION:Europe/Zurich
TZURL:http://tzurl.org/zoneinfo/Europe/Zurich
BEGIN:DAYLIGHT
TZOFFSETFROM:+0100
TZOFFSETTO:+0200
TZNAME:CEST
DTSTART:19810329T020000
RRULE:FREQ=YEARLY;BYMONTH=3;BYDAY=-1SU
END:DAYLIGHT
BEGIN:STANDARD
TZOFFSETFROM:+0200
TZOFFSETTO:+0100
TZNAME:CET
DTSTART:19961027T030000
RRULE:FREQ=YEARLY;BYMONTH=10;BYDAY=-1SU
END:STANDARD
END:VTIMEZONE
BEGIN:VEVENT
UID:news547@nursing.unibas.ch
DTSTAMP;TZID=Europe/Zurich:20260415T104019
DTSTART;TZID=Europe/Zurich:20261202T170000
SUMMARY:4. IMPACT Webinar: «IMPACT Going Back to Basics: A Review of Metho
 dological Building Blocks / Implementation Science Steps»
DESCRIPTION:Prof. Dr. Marie Schneider\, Universität Genf\, CHDr. Lynn Lepp
 la\, INS & Universitätsklinikum Freiburg\, D\\r\\nThe webinars are organi
 zed by the Swiss Implementation Science Network (IMPACT) [https://impact-
 dph.unibas.ch/].\\r\\nFor more detailed information on the individual webi
 nars\, please see the flyer\, which you can download here [https://impact
 -dph.unibas.ch/webinars/].\\r\\nPlease click here [https://nursing.wufoo.
 com/forms/z13l8eil13mpjb7/] to register for individual webinars or the en
 tire 2026 Webinar Series.
X-ALT-DESC:<p><strong>Prof. Dr. Marie Schneider</strong>\, Universität Gen
 f\, CH<br /><strong>Dr. Lynn Leppla</strong>\, INS &amp\; Universitätskli
 nikum Freiburg\, D</p>\n<p>The webinars are organized by the&nbsp\;<a href
 ="https://impact-dph.unibas.ch/" target="_blank">Swiss Implementation Scie
 nce Network (IMPACT)</a>.</p>\n<p>For more detailed information on the ind
 ividual webinars\, please see the flyer\, which you can download&nbsp\;<a 
 href="https://impact-dph.unibas.ch/webinars/" target="_blank">here</a>.</p
 >\n<p>Please click&nbsp\;<a href="https://nursing.wufoo.com/forms/z13l8eil
 13mpjb7/" target="_blank">here</a>&nbsp\;to register for individual webina
 rs or the entire 2026 Webinar Series.</p>
DTEND;TZID=Europe/Zurich:20261202T183000
END:VEVENT
END:VCALENDAR
